BEGIN:VCALENDAR
VERSION:2.0
METHOD:PUBLISH
CALSCALE:GREGORIAN
PRODID:-//WordPress - MECv7.25.0//EN
X-ORIGINAL-URL:https://careersinideas.org.uk/
X-WR-CALNAME:Careers in Ideas
X-WR-CALDESC:A Future in IP
X-WR-TIMEZONE:UTC
BEGIN:VTIMEZONE
TZID:UTC
BEGIN:STANDARD
TZOFFSETFROM:+0000
TZOFFSETTO:+0000
TZNAME:UTC
DTSTART:20260424T132857
END:STANDARD
END:VTIMEZONE
REFRESH-INTERVAL;VALUE=DURATION:PT1H
X-PUBLISHED-TTL:PT1H
X-MS-OLK-FORCEINSPECTOROPEN:TRUE
BEGIN:VEVENT
CLASS:PUBLIC
UID:MEC-ce052ea95dfe35291c6fa7fcf8819492@careersinideas.org.uk
DTSTART;TZID=UTC:20260601T130000
DTEND;TZID=UTC:20260601T170000
DTSTAMP:20260318T111506Z
CREATED:20260318
LAST-MODIFIED:20260318
PRIORITY:5
SEQUENCE:5
TRANSP:OPAQUE
SUMMARY:Template SofIP Event
DESCRIPTION:What?\n[what’s on offer]\nWho?\n[who is it for]\nHow to sign-up / apply\n[Sign-up details or link]\n[places available.]\n[selection criteria or No selection criteria – open to all.]\nOther info\n[such as careers page or EDI page]\nContact\n[email or phone number]\n
URL:https://careersinideas.org.uk/?post_type=mec-events&p=4430
ORGANIZER;CN=Mewburn Ellis LLP:MAILTO:lucy.coe@mewburn.com
CATEGORIES:All Events,Summer of IP 2026
LOCATION:Online
END:VEVENT
BEGIN:VEVENT
CLASS:PUBLIC
UID:MEC-12ced2db6f0193dda91ba86224ea1cd8@careersinideas.org.uk
DTSTART;TZID=UTC:20260601T130000
DTEND;TZID=UTC:20260601T170000
DTSTAMP:20260318T102623Z
CREATED:20260318
LAST-MODIFIED:20260318
PRIORITY:5
SEQUENCE:2
TRANSP:OPAQUE
SUMMARY:Example SofIP event – A Career as a Patent Attorney
DESCRIPTION:What?\nAn informal online session for graduates/university students providing more information about a career as a patent attorney. This will include a short presentation, followed by a Q A session with about 4 patent attorneys from different technical backgrounds answering questions from attendees.\nWho?\nUniversity students or graduates with science/technology degree, interested in a career as a patent attorney.\nHow to sign-up / apply\nSign-up link to follow shortly.\n100 places available.\nNo selection criteria – open to all.\nOther info\nPlease take a look at the Mewburn Ellis website careers page: https://www.mewburn.com/careers ( https://www.mewburn.com/careers )\nContact\nlucy.coe@mewburn.com ( mailto:lucy.coe@mewburn.com )\n
URL:https://careersinideas.org.uk/?post_type=mec-events&p=4421
ORGANIZER;CN=Mewburn Ellis LLP:MAILTO:lucy.coe@mewburn.com
CATEGORIES:All Events,For career changers,For postgraduates,For undergraduates,Summer of IP 2026
LOCATION:Online
ATTACH;FMTTYPE=image/jpeg:https://careersinideas.org.uk/wp-content/uploads/2025/05/mewburn-ellis-logo-square.jpg
END:VEVENT
BEGIN:VEVENT
CLASS:PUBLIC
UID:MEC-0fd7e4f42a8b4b4ef33394d35212b13e@careersinideas.org.uk
DTSTART;TZID=UTC:20260623T100000
DTEND;TZID=UTC:20260623T140000
DTSTAMP:20260407T143042Z
CREATED:20260407
LAST-MODIFIED:20260407
PRIORITY:5
SEQUENCE:11
TRANSP:OPAQUE
SUMMARY:IP Taster Day
DESCRIPTION:Join Stratagem IPM Ltd for an IP Taster Day in Cambridge. The taster day will include an overview of careers in IP, a workshop/skills session and opportunities to talk with Stratagem’s trainees and attorneys about their roles, experiences and pathways into their careers.\n \nWho?\nAnyone interest in a career in IP.\n \nHow to sign-up / apply\nPlease apply by sending a CV and brief covering letter or email to hr@stratagemipm.co.uk by Tuesday 9 June 2026.\n12 places available.\nStratagem are looking to provide opportunities to groups currently under-represented in IP but anyone with an interest in IP is encouraged to apply.\n \nOther info\nThe dress code for the day is relaxed/informal (business dress is not needed).\nFor further information about careers and working at Stratagem please see our Recruitment webpage: https://stratagemipm.co.uk/recruitment/\n \nContact\nhr@stratagemipm.co.uk\nPhone: 01223 550740\n
URL:https://careersinideas.org.uk/events/ip-taster-day/
ORGANIZER;CN=Stratagem IPM Ltd:MAILTO:hr@stratagemipm.co.uk
CATEGORIES:All Events,For anyone interested in a career in IP,For career changers,For postgraduates,For sixth form or college students,For those interested in science and technology,For undergraduates,STEM degree,Summer of IP 2026
LOCATION:100 Hills Road, Cambridge, CB2 1LQ
ATTACH;FMTTYPE=image/png:https://careersinideas.org.uk/wp-content/uploads/2026/04/Stratagem-scaled.png
END:VEVENT
BEGIN:VEVENT
CLASS:PUBLIC
UID:MEC-e9ed9cad56c92652263953755852bedb@careersinideas.org.uk
DTSTART;TZID=UTC:20260728T090000
DTEND;TZID=UTC:20260730T170000
DTSTAMP:20260330T130828Z
CREATED:20260330
LAST-MODIFIED:20260330
PRIORITY:5
SEQUENCE:12
TRANSP:OPAQUE
SUMMARY:Work experience – Patent Attorney
DESCRIPTION:Join Schlich Ltd for a three-day work experience programme taking place at their offices in Littlehampton, West Sussex. The work experience will run on 28-30th July 2026, from 9am to 5pm daily.\nThis three-day work experience programme is designed to give students who have completed, or are currently enrolled on a STEM degree, a unique insight into what it means to work as a patent attorney.\nDuring the three-day event, students will hear from attorneys and support staff alike, across various stages of their careers, about the day-to-day job of a patent attorney. The event will include presentations, interactive sessions and shadowing and will give a comprehensive insight into the day to day life of an IP professional.\n \nWho?\nUniversity students who are currently enrolled on a STEM (science/technology/engineering/maths) degree, or graduates with a STEM degree, who are interested in a career as a patent attorney.\nApplicants must live (or have a place or residence) within 30 miles of Schlich’s office in Littlehampton.\n \nHow to sign-up / apply\nApply by sending a 1-page CV and cover letter to laura.locking@schlich.co.uk.\nThere are four spaces available for this three-day work experience programme.\nPlaces will be allocated on a first-come-first served basis unless the first applicants do not meet the criteria.\n \nOther info\nAll successful applicants will be eligible for up to £100 to cover travel expenses.\n \nContact\nlaura.locking@schlich.co.uk\nPhone: 01903 717001\n
URL:https://careersinideas.org.uk/events/a-career-as-a-patent-attorney-test-event-616/
ORGANIZER;CN=Schlich Ltd:MAILTO:laura.locking@schlich.co.uk
CATEGORIES:All Events,For career changers,For postgraduates,For those interested in science and technology,For undergraduates,STEM degree,Summer of IP 2026
LOCATION:34 New Road, Littlehampton, West Sussex, BN17 5AT
ATTACH;FMTTYPE=image/jpeg:https://careersinideas.org.uk/wp-content/uploads/2026/03/Schlich-logo.jpg
END:VEVENT
BEGIN:VEVENT
CLASS:PUBLIC
UID:MEC-52c670999cdef4b09eb656850da777c4@careersinideas.org.uk
DTSTART;TZID=UTC:20260513T133000
DTEND;TZID=UTC:20260513T150000
DTSTAMP:20260304T101554Z
CREATED:20260304
LAST-MODIFIED:20260318
PRIORITY:5
SEQUENCE:8
TRANSP:OPAQUE
SUMMARY:Summer of IP 2026 Launch Event
DESCRIPTION:\n\nAn online event to introduce careers advisers and outreach professionals to Summer of IP 2026.\n \n\n\n\n\nDo you know about the range of exciting career opportunities available in the intellectual property (IP) sector?\nWould your students be interested in webinars, open days, workshops, taster sessions, work experience, or the opportunity to meet IP professionals?\n \nThis webinar from Careers in Ideas will provide essential information for careers advisers and outreach organisations so they can advise students on careers in intellectual property and opportunities offered by Summer of IP 2026.\n \nIn this free online event you’ll hear from a range of IP professionals and recruiters.\nLearn about\n\nthe intellectual property (IP) sector,\nthe different careers options within IP,\nroutes into the IP sector.\n\n \nWe’ll also be launching Summer of IP 2026!\n\nThis outreach campaign is designed to raise awareness of and improve access to IP careers through online resources, webinars, in-person events, hands-on activities and opportunities.\nYou’ll be able to ask questions and talk to IP professionals and recruiters.\n\n \nClick here to register for this free event and guarantee your place.\n \nCost\nThis event is free. So are all our resources.\nThat said, we do need money to keep the show on the road, so if you are able, please consider choosing a voluntary donation ticket. For more information, visit the IP Inclusive fundraising page.\n\n\n
URL:https://careersinideas.org.uk/events/summer-of-ip-2026-launch-event/
ORGANIZER;CN=Careers in Ideas:MAILTO:
CATEGORIES:All Events,For Careers Advisors,For Outreach Organisations and Charities,Summer of IP 2026
ATTACH;FMTTYPE=image/jpeg:https://careersinideas.org.uk/wp-content/uploads/2026/01/Main-logo-small.jpg
END:VEVENT
END:VCALENDAR
